BEGIN:VCALENDAR
VERSION:2.0
PRODID:icalendar-ruby
CALSCALE:GREGORIAN
METHOD:PUBLISH
BEGIN:VEVENT
DTSTAMP:20260423T124512Z
UID:17-432823@livingwaterkingston.com
DTSTART:20261013T223000Z
DTEND:20261013T233000Z
CLASS:PUBLIC
CREATED:20260423T082014
DESCRIPTION:Hands of Hope
LAST-MODIFIED:20260423T082014
LOCATION:20 W. Third Street\, Kingston\, OH 45644
SUMMARY:Hands of Hope
URL;VALUE=URI:https://livingwaterkingston.com/events/hands-of-hope/2026-10-
 13
ATTACH;FILENAME=IMG_0868.jpeg;FMTTYPE=image/jpeg:https://dq5pwpg1q8ru0.clou
 dfront.net/2024/08/16/22/40/56/68f1eab1-de79-433c-afe2-a3d7b0004325/IMG_08
 68.jpeg
END:VEVENT
END:VCALENDAR
